BEGIN:VCALENDAR
VERSION:2.0
PRODID:-//Valley Brass Band - ECPv6.15.17.1//NONSGML v1.0//EN
CALSCALE:GREGORIAN
METHOD:PUBLISH
X-WR-CALNAME:Valley Brass Band
X-ORIGINAL-URL:https://valleybrassband.co.uk
X-WR-CALDESC:Events for Valley Brass Band
REFRESH-INTERVAL;VALUE=DURATION:PT1H
X-Robots-Tag:noindex
X-PUBLISHED-TTL:PT1H
BEGIN:VTIMEZONE
TZID:Europe/London
BEGIN:DAYLIGHT
TZOFFSETFROM:+0000
TZOFFSETTO:+0100
TZNAME:BST
DTSTART:20230326T010000
END:DAYLIGHT
BEGIN:STANDARD
TZOFFSETFROM:+0100
TZOFFSETTO:+0000
TZNAME:GMT
DTSTART:20231029T010000
END:STANDARD
BEGIN:DAYLIGHT
TZOFFSETFROM:+0000
TZOFFSETTO:+0100
TZNAME:BST
DTSTART:20240331T010000
END:DAYLIGHT
BEGIN:STANDARD
TZOFFSETFROM:+0100
TZOFFSETTO:+0000
TZNAME:GMT
DTSTART:20241027T010000
END:STANDARD
BEGIN:DAYLIGHT
TZOFFSETFROM:+0000
TZOFFSETTO:+0100
TZNAME:BST
DTSTART:20250330T010000
END:DAYLIGHT
BEGIN:STANDARD
TZOFFSETFROM:+0100
TZOFFSETTO:+0000
TZNAME:GMT
DTSTART:20251026T010000
END:STANDARD
END:VTIMEZONE
BEGIN:VEVENT
DTSTART;VALUE=DATE:20241201
DTEND;VALUE=DATE:20241226
DTSTAMP:20260419T153628
CREATED:20241104T223054Z
LAST-MODIFIED:20241104T223054Z
UID:421-1733011200-1735171199@valleybrassband.co.uk
SUMMARY:Christmas Caroling in Supermarkets
DESCRIPTION:
URL:https://valleybrassband.co.uk/event/christmas-caroling-in-supermarkets/
END:VEVENT
BEGIN:VEVENT
DTSTART;TZID=Europe/London:20241215T190000
DTEND;TZID=Europe/London:20241215T213000
DTSTAMP:20260419T153628
CREATED:20241028T170915Z
LAST-MODIFIED:20241212T202045Z
UID:405-1734289200-1734298200@valleybrassband.co.uk
SUMMARY:Valley Brass Christmas Concert 2024
DESCRIPTION:
URL:https://valleybrassband.co.uk/event/valley-brass-christmas-concert-2024/
LOCATION:Haydock Conservative Club\, Bellerophon Way\, Haydock\, Saint Helens\, WA11 0GT\, United Kingdom
CATEGORIES:Concert
END:VEVENT
BEGIN:VEVENT
DTSTART;TZID=Europe/London:20241224T170000
DTEND;TZID=Europe/London:20241224T180000
DTSTAMP:20260419T153628
CREATED:20240830T151407Z
LAST-MODIFIED:20240830T151407Z
UID:373-1735059600-1735063200@valleybrassband.co.uk
SUMMARY:St. Marks Haydock Community Carols
DESCRIPTION:
URL:https://valleybrassband.co.uk/event/st-marks-haydock-community-carols/
LOCATION:St. Marks Church\, West End Road\, Haydock\, United Kingdom
CATEGORIES:Service
END:VEVENT
END:VCALENDAR