BEGIN:VCALENDAR
VERSION:2.0
PRODID:-//Valley Brass Band - ECPv6.15.17.1//NONSGML v1.0//EN
CALSCALE:GREGORIAN
METHOD:PUBLISH
X-WR-CALNAME:Valley Brass Band
X-ORIGINAL-URL:https://valleybrassband.co.uk
X-WR-CALDESC:Events for Valley Brass Band
REFRESH-INTERVAL;VALUE=DURATION:PT1H
X-Robots-Tag:noindex
X-PUBLISHED-TTL:PT1H
BEGIN:VTIMEZONE
TZID:Europe/London
BEGIN:DAYLIGHT
TZOFFSETFROM:+0000
TZOFFSETTO:+0100
TZNAME:BST
DTSTART:20240331T010000
END:DAYLIGHT
BEGIN:STANDARD
TZOFFSETFROM:+0100
TZOFFSETTO:+0000
TZNAME:GMT
DTSTART:20241027T010000
END:STANDARD
BEGIN:DAYLIGHT
TZOFFSETFROM:+0000
TZOFFSETTO:+0100
TZNAME:BST
DTSTART:20250330T010000
END:DAYLIGHT
BEGIN:STANDARD
TZOFFSETFROM:+0100
TZOFFSETTO:+0000
TZNAME:GMT
DTSTART:20251026T010000
END:STANDARD
BEGIN:DAYLIGHT
TZOFFSETFROM:+0000
TZOFFSETTO:+0100
TZNAME:BST
DTSTART:20260329T010000
END:DAYLIGHT
BEGIN:STANDARD
TZOFFSETFROM:+0100
TZOFFSETTO:+0000
TZNAME:GMT
DTSTART:20261025T010000
END:STANDARD
END:VTIMEZONE
BEGIN:VEVENT
DTSTART;VALUE=DATE:20250614
DTEND;VALUE=DATE:20250615
DTSTAMP:20260419T125620
CREATED:20240407T203848Z
LAST-MODIFIED:20250323T114946Z
UID:226-1749859200-1749945599@valleybrassband.co.uk
SUMMARY:Kirkham Walking Day
DESCRIPTION:
URL:https://valleybrassband.co.uk/event/kirkham-walking-day/
LOCATION:Saint Joseph’s Catholic Primary School\, Garstang Rd N\,\, Wesham\, Preston\, PR4 3HA\, United Kingdom
CATEGORIES:Walking Day
END:VEVENT
END:VCALENDAR