BEGIN:VCALENDAR
VERSION:2.0
PRODID:-//Valley Brass Band - ECPv6.15.17.1//NONSGML v1.0//EN
CALSCALE:GREGORIAN
METHOD:PUBLISH
X-WR-CALNAME:Valley Brass Band
X-ORIGINAL-URL:https://valleybrassband.co.uk
X-WR-CALDESC:Events for Valley Brass Band
REFRESH-INTERVAL;VALUE=DURATION:PT1H
X-Robots-Tag:noindex
X-PUBLISHED-TTL:PT1H
BEGIN:VTIMEZONE
TZID:Europe/London
BEGIN:DAYLIGHT
TZOFFSETFROM:+0000
TZOFFSETTO:+0100
TZNAME:BST
DTSTART:20240331T010000
END:DAYLIGHT
BEGIN:STANDARD
TZOFFSETFROM:+0100
TZOFFSETTO:+0000
TZNAME:GMT
DTSTART:20241027T010000
END:STANDARD
BEGIN:DAYLIGHT
TZOFFSETFROM:+0000
TZOFFSETTO:+0100
TZNAME:BST
DTSTART:20250330T010000
END:DAYLIGHT
BEGIN:STANDARD
TZOFFSETFROM:+0100
TZOFFSETTO:+0000
TZNAME:GMT
DTSTART:20251026T010000
END:STANDARD
BEGIN:DAYLIGHT
TZOFFSETFROM:+0000
TZOFFSETTO:+0100
TZNAME:BST
DTSTART:20260329T010000
END:DAYLIGHT
BEGIN:STANDARD
TZOFFSETFROM:+0100
TZOFFSETTO:+0000
TZNAME:GMT
DTSTART:20261025T010000
END:STANDARD
END:VTIMEZONE
BEGIN:VEVENT
DTSTART;TZID=Europe/London:20250322T190000
DTEND;TZID=Europe/London:20250322T210000
DTSTAMP:20260419T213655
CREATED:20240218T123815Z
LAST-MODIFIED:20250323T114601Z
UID:201-1742670000-1742677200@valleybrassband.co.uk
SUMMARY:Concert - St. James Church\, Chorley
DESCRIPTION:
URL:https://valleybrassband.co.uk/event/concert-st-james-church-chorley/
LOCATION:St. James Church Chorley\, St. James Church\, Chorley\, United Kingdom
CATEGORIES:Concert
END:VEVENT
END:VCALENDAR